BEGIN:VCALENDAR
VERSION:2.0
PRODID:-//Mount Vernon Country Club | Mount Vernon, Ohio - ECPv6.15.20//NONSGML v1.0//EN
CALSCALE:GREGORIAN
METHOD:PUBLISH
X-WR-CALNAME:Mount Vernon Country Club | Mount Vernon, Ohio
X-ORIGINAL-URL:https://mtvcountryclub.com
X-WR-CALDESC:Events for Mount Vernon Country Club | Mount Vernon, Ohio
REFRESH-INTERVAL;VALUE=DURATION:PT1H
X-Robots-Tag:noindex
X-PUBLISHED-TTL:PT1H
BEGIN:VTIMEZONE
TZID:America/New_York
BEGIN:DAYLIGHT
TZOFFSETFROM:-0500
TZOFFSETTO:-0400
TZNAME:EDT
DTSTART:20210314T070000
END:DAYLIGHT
BEGIN:STANDARD
TZOFFSETFROM:-0400
TZOFFSETTO:-0500
TZNAME:EST
DTSTART:20211107T060000
END:STANDARD
BEGIN:DAYLIGHT
TZOFFSETFROM:-0500
TZOFFSETTO:-0400
TZNAME:EDT
DTSTART:20220313T070000
END:DAYLIGHT
BEGIN:STANDARD
TZOFFSETFROM:-0400
TZOFFSETTO:-0500
TZNAME:EST
DTSTART:20221106T060000
END:STANDARD
BEGIN:DAYLIGHT
TZOFFSETFROM:-0500
TZOFFSETTO:-0400
TZNAME:EDT
DTSTART:20230312T070000
END:DAYLIGHT
BEGIN:STANDARD
TZOFFSETFROM:-0400
TZOFFSETTO:-0500
TZNAME:EST
DTSTART:20231105T060000
END:STANDARD
END:VTIMEZONE
BEGIN:VEVENT
DTSTART;VALUE=DATE:20220926
DTEND;VALUE=DATE:20220927
DTSTAMP:20260420T092450
CREATED:20220805T160109Z
LAST-MODIFIED:20220805T160403Z
UID:10000801-1664150400-1664236799@mtvcountryclub.com
SUMMARY:Course Closed - Greens Aerification
DESCRIPTION:Aerification of the Greens
URL:https://mtvcountryclub.com/event/course-closed-for-aerification-of-greens/
LOCATION:8927 Martinsburg Road\, Mount Vernon\, OH\, 43050\, United States
END:VEVENT
BEGIN:VEVENT
DTSTART;VALUE=DATE:20220922
DTEND;VALUE=DATE:20220923
DTSTAMP:20260420T092450
CREATED:20220805T155936Z
LAST-MODIFIED:20220805T155936Z
UID:10000800-1663804800-1663891199@mtvcountryclub.com
SUMMARY:MVCC Pro-Member
DESCRIPTION:
URL:https://mtvcountryclub.com/event/mvcc-pro-member/
LOCATION:8927 Martinsburg Road\, Mount Vernon\, OH\, 43050\, United States
CATEGORIES:Men's Golf
END:VEVENT
BEGIN:VEVENT
DTSTART;TZID=America/New_York:20220918T090000
DTEND;TZID=America/New_York:20220918T090000
DTSTAMP:20260420T092450
CREATED:20220805T155752Z
LAST-MODIFIED:20220805T155752Z
UID:10000799-1663491600-1663491600@mtvcountryclub.com
SUMMARY:Private Golf Outing
DESCRIPTION:
URL:https://mtvcountryclub.com/event/private-golf-outing-2/
LOCATION:8927 Martinsburg Road\, Mount Vernon\, OH\, 43050\, United States
END:VEVENT
BEGIN:VEVENT
DTSTART;TZID=America/New_York:20220917T120000
DTEND;TZID=America/New_York:20220917T210000
DTSTAMP:20260420T092450
CREATED:20220915T151628Z
LAST-MODIFIED:20220915T151704Z
UID:10000816-1663416000-1663448400@mtvcountryclub.com
SUMMARY:Club Closing at 12:00
DESCRIPTION:Dear Mount Vernon Country Club Members\, \n\n\nJust a reminder that the club will be closed for food service beginning at noon this Saturday\, September 17\, 2022\, for a golf outing and outside catering event. \nWe appreciate your understanding. \nSincerely\,\nMVCC Management
URL:https://mtvcountryclub.com/event/club-closing-at-1200/
LOCATION:8927 Martinsburg Road\, Mount Vernon\, OH\, 43050\, United States
CATEGORIES:Club Closed,Private Event
END:VEVENT
BEGIN:VEVENT
DTSTART;TZID=America/New_York:20220916T130000
DTEND;TZID=America/New_York:20220916T130000
DTSTAMP:20260420T092450
CREATED:20220706T135838Z
LAST-MODIFIED:20220706T135838Z
UID:10000665-1663333200-1663333200@mtvcountryclub.com
SUMMARY:Men's Fall Classic
DESCRIPTION:Choose your own foursome\nScramble with team handicaps and a built-in par 3 event\nRotating 3-man scramble with 1 Man playing the par 3 on each hole\nScramble Score + Par 3 Score
URL:https://mtvcountryclub.com/event/mens-fall-classic/
LOCATION:8927 Martinsburg Road\, Mount Vernon\, OH\, 43050\, United States
CATEGORIES:Men's Golf
END:VEVENT
BEGIN:VEVENT
DTSTART;TZID=America/New_York:20220915T170000
DTEND;TZID=America/New_York:20220915T170000
DTSTAMP:20260420T092450
CREATED:20220805T155653Z
LAST-MODIFIED:20220805T155653Z
UID:10000798-1663261200-1663261200@mtvcountryclub.com
SUMMARY:Women's League Championship
DESCRIPTION:
URL:https://mtvcountryclub.com/event/womens-league-championship/
LOCATION:8927 Martinsburg Road\, Mount Vernon\, OH\, 43050\, United States
CATEGORIES:Women's Golf
END:VEVENT
BEGIN:VEVENT
DTSTART;TZID=America/New_York:20220914T160000
DTEND;TZID=America/New_York:20220914T160000
DTSTAMP:20260420T092450
CREATED:20220805T155609Z
LAST-MODIFIED:20220805T155609Z
UID:10000797-1663171200-1663171200@mtvcountryclub.com
SUMMARY:Men's League Championship
DESCRIPTION:
URL:https://mtvcountryclub.com/event/mens-league-championship/
LOCATION:8927 Martinsburg Road\, Mount Vernon\, OH\, 43050\, United States
CATEGORIES:Men's Golf
END:VEVENT
BEGIN:VEVENT
DTSTART;TZID=America/New_York:20220913T120000
DTEND;TZID=America/New_York:20220913T170000
DTSTAMP:20260420T092450
CREATED:20220805T132451Z
LAST-MODIFIED:20220805T133118Z
UID:10000788-1663070400-1663088400@mtvcountryclub.com
SUMMARY:Private Golf Outing
DESCRIPTION:
URL:https://mtvcountryclub.com/event/golf-outing-3/
LOCATION:8927 Martinsburg Road\, Mount Vernon\, OH\, 43050\, United States
END:VEVENT
BEGIN:VEVENT
DTSTART;TZID=America/New_York:20220910T130000
DTEND;TZID=America/New_York:20220910T170000
DTSTAMP:20260420T092450
CREATED:20220805T132330Z
LAST-MODIFIED:20220805T133014Z
UID:10000787-1662814800-1662829200@mtvcountryclub.com
SUMMARY:Charter Room Reserved (pm)
DESCRIPTION:The Charter Room will be closed for a Celebration of Life
URL:https://mtvcountryclub.com/event/charter-room-reserved-2/
LOCATION:8927 Martinsburg Road\, Mount Vernon\, OH\, 43050\, United States
CATEGORIES:Private Event
END:VEVENT
BEGIN:VEVENT
DTSTART;TZID=America/New_York:20220909T100000
DTEND;TZID=America/New_York:20220909T153000
DTSTAMP:20260420T092450
CREATED:20220805T132123Z
LAST-MODIFIED:20220805T132941Z
UID:10000672-1662717600-1662737400@mtvcountryclub.com
SUMMARY:Charter Room Reserved (am)
DESCRIPTION:Charter Room will be closed for lunch service
URL:https://mtvcountryclub.com/event/charter-room-reserved/
LOCATION:8927 Martinsburg Road\, Mount Vernon\, OH\, 43050\, United States
CATEGORIES:Private Event
END:VEVENT
BEGIN:VEVENT
DTSTART;TZID=America/New_York:20220908T170000
DTEND;TZID=America/New_York:20220908T170000
DTSTAMP:20260420T092450
CREATED:20220805T155510Z
LAST-MODIFIED:20220805T155510Z
UID:10000796-1662656400-1662656400@mtvcountryclub.com
SUMMARY:Women's Golf League
DESCRIPTION:
URL:https://mtvcountryclub.com/event/womens-golf-league-10/
LOCATION:8927 Martinsburg Road\, Mount Vernon\, OH\, 43050\, United States
CATEGORIES:Women's Golf
END:VEVENT
BEGIN:VEVENT
DTSTART;TZID=America/New_York:20220907T170000
DTEND;TZID=America/New_York:20220907T170000
DTSTAMP:20260420T092450
CREATED:20220805T155431Z
LAST-MODIFIED:20220805T155431Z
UID:10000795-1662570000-1662570000@mtvcountryclub.com
SUMMARY:Men's Golf League
DESCRIPTION:5:00 Shotgun
URL:https://mtvcountryclub.com/event/mens-golf-league-10/
LOCATION:8927 Martinsburg Road\, Mount Vernon\, OH\, 43050\, United States
CATEGORIES:Men's Golf
END:VEVENT
BEGIN:VEVENT
DTSTART;VALUE=DATE:20220906
DTEND;VALUE=DATE:20220907
DTSTAMP:20260420T092450
CREATED:20220826T171452Z
LAST-MODIFIED:20220826T171452Z
UID:10000807-1662422400-1662508799@mtvcountryclub.com
SUMMARY:Club Closed
DESCRIPTION:The Club will be closed today
URL:https://mtvcountryclub.com/event/club-closed-6/
LOCATION:8927 Martinsburg Road\, Mount Vernon\, OH\, 43050\, United States
CATEGORIES:Club Closed
END:VEVENT
BEGIN:VEVENT
DTSTART;VALUE=DATE:20220905
DTEND;VALUE=DATE:20220906
DTSTAMP:20260420T092450
CREATED:20220826T171847Z
LAST-MODIFIED:20220826T171847Z
UID:10000809-1662336000-1662422399@mtvcountryclub.com
SUMMARY:Labor Day Cookout
DESCRIPTION:
URL:https://mtvcountryclub.com/event/labor-day-cookout/
LOCATION:8927 Martinsburg Road\, Mount Vernon\, OH\, 43050\, United States
CATEGORIES:Member Event
END:VEVENT
BEGIN:VEVENT
DTSTART;VALUE=DATE:20220905
DTEND;VALUE=DATE:20220906
DTSTAMP:20260420T092450
CREATED:20220706T135111Z
LAST-MODIFIED:20220826T172108Z
UID:10000662-1662336000-1662422399@mtvcountryclub.com
SUMMARY:Men's & Ladies Labor Day Outing
DESCRIPTION:Men’s Labor Day Outing \nIndividual low net and low gross \n  \nLadies Labor Day Golf Outing \n\nA-B blind draw scramble
URL:https://mtvcountryclub.com/event/mens-labor-day-outing/
LOCATION:8927 Martinsburg Road\, Mount Vernon\, OH\, 43050\, United States
END:VEVENT
BEGIN:VEVENT
DTSTART;TZID=America/New_York:20220901T170000
DTEND;TZID=America/New_York:20220901T170000
DTSTAMP:20260420T092450
CREATED:20220805T154325Z
LAST-MODIFIED:20220805T154325Z
UID:10000790-1662051600-1662051600@mtvcountryclub.com
SUMMARY:Women's Golf League
DESCRIPTION:
URL:https://mtvcountryclub.com/event/womens-golf-league-8/
LOCATION:8927 Martinsburg Road\, Mount Vernon\, OH\, 43050\, United States
CATEGORIES:Women's Golf
END:VEVENT
BEGIN:VEVENT
DTSTART;TZID=America/New_York:20220831T170000
DTEND;TZID=America/New_York:20220831T170000
DTSTAMP:20260420T092450
CREATED:20220706T123148Z
LAST-MODIFIED:20220706T123148Z
UID:10000660-1661965200-1661965200@mtvcountryclub.com
SUMMARY:Men's Golf League
DESCRIPTION:
URL:https://mtvcountryclub.com/event/mens-golf-league-8/
LOCATION:8927 Martinsburg Road\, Mount Vernon\, OH\, 43050\, United States
CATEGORIES:Men's Golf
END:VEVENT
BEGIN:VEVENT
DTSTART;VALUE=DATE:20220829
DTEND;VALUE=DATE:20220830
DTSTAMP:20260420T092450
CREATED:20220805T155308Z
LAST-MODIFIED:20220805T155308Z
UID:10000794-1661731200-1661817599@mtvcountryclub.com
SUMMARY:Private Golf Event
DESCRIPTION:1:00 Shotgun
URL:https://mtvcountryclub.com/event/private-golf-event/
LOCATION:8927 Martinsburg Road\, Mount Vernon\, OH\, 43050\, United States
CATEGORIES:Private Event
END:VEVENT
BEGIN:VEVENT
DTSTART;TZID=America/New_York:20220828T090000
DTEND;TZID=America/New_York:20220828T090000
DTSTAMP:20260420T092450
CREATED:20220706T122221Z
LAST-MODIFIED:20220706T122540Z
UID:10000783-1661677200-1661677200@mtvcountryclub.com
SUMMARY:Men's & Women's Club Championships
DESCRIPTION:Match play final between the two winners in each group\nBoth finals are 18 holes match play with no handicaps
URL:https://mtvcountryclub.com/event/mens-womens-club-championships-2/
LOCATION:8927 Martinsburg Road\, Mount Vernon\, OH\, 43050\, United States
CATEGORIES:Member Event
END:VEVENT
BEGIN:VEVENT
DTSTART;TZID=America/New_York:20220827T090000
DTEND;TZID=America/New_York:20220827T090000
DTSTAMP:20260420T092450
CREATED:20220706T122106Z
LAST-MODIFIED:20220706T122556Z
UID:10000782-1661590800-1661590800@mtvcountryclub.com
SUMMARY:Men's & Women's Club Championships
DESCRIPTION:Scratch 59 & under\nSenior scratch 60 & over play 18 hole stroke play qualifier\nLow two scores in each category reach the match play final
URL:https://mtvcountryclub.com/event/mens-womens-club-championships/
LOCATION:8927 Martinsburg Road\, Mount Vernon\, OH\, 43050\, United States
CATEGORIES:Member Event
END:VEVENT
BEGIN:VEVENT
DTSTART;TZID=America/New_York:20220826T080000
DTEND;TZID=America/New_York:20220826T160000
DTSTAMP:20260420T092450
CREATED:20220826T171618Z
LAST-MODIFIED:20220826T171618Z
UID:10000808-1661500800-1661529600@mtvcountryclub.com
SUMMARY:Labor Day Cook Out
DESCRIPTION:
URL:https://mtvcountryclub.com/event/labor-day-cook-out/
LOCATION:8927 Martinsburg Road\, Mount Vernon\, OH\, 43050\, United States
CATEGORIES:Member Event
END:VEVENT
BEGIN:VEVENT
DTSTART;TZID=America/New_York:20220825T170000
DTEND;TZID=America/New_York:20220825T170000
DTSTAMP:20260420T092450
CREATED:20220706T122900Z
LAST-MODIFIED:20220706T122900Z
UID:10000658-1661446800-1661446800@mtvcountryclub.com
SUMMARY:Women's Golf League
DESCRIPTION:
URL:https://mtvcountryclub.com/event/womens-golf-league-7/
LOCATION:8927 Martinsburg Road\, Mount Vernon\, OH\, 43050\, United States
CATEGORIES:Women's Golf
END:VEVENT
BEGIN:VEVENT
DTSTART;TZID=America/New_York:20220824T170000
DTEND;TZID=America/New_York:20220824T170000
DTSTAMP:20260420T092450
CREATED:20220706T122830Z
LAST-MODIFIED:20220706T122830Z
UID:10000656-1661360400-1661360400@mtvcountryclub.com
SUMMARY:Men's Golf League
DESCRIPTION:
URL:https://mtvcountryclub.com/event/mens-golf-league-7/
LOCATION:8927 Martinsburg Road\, Mount Vernon\, OH\, 43050\, United States
CATEGORIES:Men's Golf
END:VEVENT
BEGIN:VEVENT
DTSTART;TZID=America/New_York:20220821T100000
DTEND;TZID=America/New_York:20220821T180000
DTSTAMP:20260420T092450
CREATED:20220805T130932Z
LAST-MODIFIED:20220805T133202Z
UID:10000670-1661076000-1661104800@mtvcountryclub.com
SUMMARY:Private Golf Outing
DESCRIPTION:
URL:https://mtvcountryclub.com/event/golf-outing/
LOCATION:8927 Martinsburg Road\, Mount Vernon\, OH\, 43050\, United States
END:VEVENT
BEGIN:VEVENT
DTSTART;TZID=America/New_York:20220820T090000
DTEND;TZID=America/New_York:20220820T090000
DTSTAMP:20260420T092450
CREATED:20220706T121447Z
LAST-MODIFIED:20220706T121924Z
UID:10000781-1660986000-1660986000@mtvcountryclub.com
SUMMARY:Women's Member Member
DESCRIPTION:Choose your own partner\n1 net BB on front & shamble on back\n$30.00
URL:https://mtvcountryclub.com/event/womens-member-member-2/
LOCATION:8927 Martinsburg Road\, Mount Vernon\, OH\, 43050\, United States
CATEGORIES:Women's Golf
END:VEVENT
BEGIN:VEVENT
DTSTART;TZID=America/New_York:20220818T170000
DTEND;TZID=America/New_York:20220818T170000
DTSTAMP:20260420T092450
CREATED:20220706T122751Z
LAST-MODIFIED:20220706T122751Z
UID:10000654-1660842000-1660842000@mtvcountryclub.com
SUMMARY:Women's Golf League
DESCRIPTION:
URL:https://mtvcountryclub.com/event/womens-golf-league-6/
LOCATION:8927 Martinsburg Road\, Mount Vernon\, OH\, 43050\, United States
CATEGORIES:Women's Golf
END:VEVENT
BEGIN:VEVENT
DTSTART;TZID=America/New_York:20220817T170000
DTEND;TZID=America/New_York:20220817T170000
DTSTAMP:20260420T092450
CREATED:20220706T122717Z
LAST-MODIFIED:20220706T122717Z
UID:10000786-1660755600-1660755600@mtvcountryclub.com
SUMMARY:Men's Golf League
DESCRIPTION:
URL:https://mtvcountryclub.com/event/mens-golf-league-6/
LOCATION:8927 Martinsburg Road\, Mount Vernon\, OH\, 43050\, United States
CATEGORIES:Men's Golf
END:VEVENT
BEGIN:VEVENT
DTSTART;TZID=America/New_York:20220813T120000
DTEND;TZID=America/New_York:20220813T200000
DTSTAMP:20260420T092450
CREATED:20220805T130813Z
LAST-MODIFIED:20220805T130813Z
UID:10000668-1660392000-1660420800@mtvcountryclub.com
SUMMARY:Charter Room Closed
DESCRIPTION:The Charter Room will be closed for a private event
URL:https://mtvcountryclub.com/event/charter-room-closed/
LOCATION:8927 Martinsburg Road\, Mount Vernon\, OH\, 43050\, United States
CATEGORIES:Private Event
END:VEVENT
BEGIN:VEVENT
DTSTART;TZID=America/New_York:20220813T090000
DTEND;TZID=America/New_York:20220813T090000
DTSTAMP:20260420T092450
CREATED:20220706T121214Z
LAST-MODIFIED:20220706T121838Z
UID:10000780-1660381200-1660381200@mtvcountryclub.com
SUMMARY:Men's Member Member
DESCRIPTION:Return to a two day tournament\nA-B Blind Draw\nNet BB on holes 1-14 then net on 15 – 18 each day
URL:https://mtvcountryclub.com/event/mens-member-member-2/
LOCATION:8927 Martinsburg Road\, Mount Vernon\, OH\, 43050\, United States
CATEGORIES:Men's Golf
END:VEVENT
BEGIN:VEVENT
DTSTART;VALUE=DATE:20220813
DTEND;VALUE=DATE:20220814
DTSTAMP:20260420T092450
CREATED:20220805T161602Z
LAST-MODIFIED:20220805T161602Z
UID:10000804-1660348800-1660435199@mtvcountryclub.com
SUMMARY:Club Closed
DESCRIPTION:The club will be closed for two events \n\nSandtrap – Men’s Member / Member\nCharter Room – Private Member Event
URL:https://mtvcountryclub.com/event/club-closed-5/
LOCATION:8927 Martinsburg Road\, Mount Vernon\, OH\, 43050\, United States
CATEGORIES:Club Closed
END:VEVENT
END:VCALENDAR